Package: hermes Version: 1.8.1 Command: /home/biocbuild/bbs-3.19-bioc/R/bin/R CMD build --keep-empty-dirs --no-resave-data hermes StartedAt: 2024-10-16 18:55:40 -0400 (Wed, 16 Oct 2024) EndedAt: 2024-10-16 18:57:26 -0400 (Wed, 16 Oct 2024) EllapsedTime: 105.2 seconds RetCode: 0 Status: OK PackageFile: hermes_1.8.1.tar.gz PackageFileSize: 3.787 MiB