Package: hermes Version: 1.8.1 Command: /Library/Frameworks/R.framework/Resources/bin/R CMD check --install=check:hermes.install-out.txt --library=/Library/Frameworks/R.framework/Resources/library --no-vignettes --timings hermes_1.8.1.tar.gz StartedAt: 2024-10-17 06:34:12 -0400 (Thu, 17 Oct 2024) EndedAt: 2024-10-17 06:53:04 -0400 (Thu, 17 Oct 2024) EllapsedTime: 1131.4 seconds RetCode: 0 Status: OK CheckDir: hermes.Rcheck Warnings: 0