Package: hermes Version: 1.8.1 Command: /Library/Frameworks/R.framework/Resources/bin/R CMD build --keep-empty-dirs --no-resave-data hermes StartedAt: 2024-10-16 19:57:05 -0400 (Wed, 16 Oct 2024) EndedAt: 2024-10-16 20:01:21 -0400 (Wed, 16 Oct 2024) EllapsedTime: 255.3 seconds RetCode: 0 Status: OK PackageFile: hermes_1.8.1.tar.gz PackageFileSize: 4.001 MiB