Package: hermes Version: 1.8.1 Command: rm -rf hermes.buildbin-libdir && mkdir hermes.buildbin-libdir && /Users/biocbuild/BBS/utils/build-universal.sh hermes_1.8.1.tar.gz /Library/Frameworks/R.framework/Resources/bin/R hermes.buildbin-libdir StartedAt: 2024-10-17 16:20:42 -0400 (Thu, 17 Oct 2024) EndedAt: 2024-10-17 16:22:20 -0400 (Thu, 17 Oct 2024) EllapsedTime: 98.0 seconds RetCode: 0 Status: OK PackageFile: hermes_1.8.1.tgz PackageFileSize: 4.126 MiB