Package: hermes Version: 1.8.0 Command: /Library/Frameworks/R.framework/Resources/bin/R CMD INSTALL hermes StartedAt: 2024-06-09 15:16:47 -0400 (Sun, 09 Jun 2024) EndedAt: 2024-06-09 15:17:51 -0400 (Sun, 09 Jun 2024) EllapsedTime: 63.2 seconds RetCode: 0 Status: OK