Package: hermes Version: 1.8.0 Command: /Library/Frameworks/R.framework/Resources/bin/R CMD check --install=check:hermes.install-out.txt --library=/Library/Frameworks/R.framework/Resources/library --no-vignettes --timings hermes_1.8.0.tar.gz StartedAt: 2024-06-09 20:51:11 -0400 (Sun, 09 Jun 2024) EndedAt: 2024-06-09 20:59:33 -0400 (Sun, 09 Jun 2024) EllapsedTime: 501.1 seconds RetCode: 0 Status: OK CheckDir: hermes.Rcheck Warnings: 0