Package: hermes Version: 1.8.0 Command: /Library/Frameworks/R.framework/Resources/bin/R CMD build --keep-empty-dirs --no-resave-data hermes StartedAt: 2024-06-09 16:55:55 -0400 (Sun, 09 Jun 2024) EndedAt: 2024-06-09 16:57:45 -0400 (Sun, 09 Jun 2024) EllapsedTime: 109.4 seconds RetCode: 0 Status: OK PackageFile: hermes_1.8.0.tar.gz PackageFileSize: 4.001 MiB