Package: hermes Version: 1.8.0 Command: /home/biocbuild/R/R-beta-2024-04-15_r86425/bin/R CMD check --install=check:hermes.install-out.txt --library=/home/biocbuild/R/R-beta-2024-04-15_r86425/site-library --no-vignettes --timings hermes_1.8.0.tar.gz StartedAt: 2024-05-09 08:16:47 -0000 (Thu, 09 May 2024) EndedAt: 2024-05-09 08:28:06 -0000 (Thu, 09 May 2024) EllapsedTime: 679.2 seconds RetCode: 0 Status: OK CheckDir: hermes.Rcheck Warnings: 0