Package: heatmaps Version: 1.28.0 Command: rm -rf heatmaps.buildbin-libdir && mkdir heatmaps.buildbin-libdir && F:\biocbuild\bbs-3.19-bioc\R\bin\R.exe CMD INSTALL --build --library=heatmaps.buildbin-libdir heatmaps_1.28.0.tar.gz StartedAt: 2024-06-27 08:20:26 -0400 (Thu, 27 Jun 2024) EndedAt: 2024-06-27 08:21:04 -0400 (Thu, 27 Jun 2024) EllapsedTime: 37.4 seconds RetCode: 0 Status: OK PackageFile: heatmaps_1.28.0.zip PackageFileSize: 8.325 MiB