Package: heatmaps Version: 1.28.0 Command: rm -rf heatmaps.buildbin-libdir && mkdir heatmaps.buildbin-libdir && /Users/biocbuild/BBS/utils/build-universal.sh heatmaps_1.28.0.tar.gz /Library/Frameworks/R.framework/Resources/bin/R heatmaps.buildbin-libdir StartedAt: 2024-10-17 16:20:27 -0400 (Thu, 17 Oct 2024) EndedAt: 2024-10-17 16:21:13 -0400 (Thu, 17 Oct 2024) EllapsedTime: 46.6 seconds RetCode: 0 Status: OK PackageFile: heatmaps_1.28.0.tgz PackageFileSize: 8.996 MiB