Package: heatmaps Version: 1.28.0 Command: /Library/Frameworks/R.framework/Resources/bin/R CMD check --install=check:heatmaps.install-out.txt --library=/Library/Frameworks/R.framework/Resources/library --no-vignettes --timings heatmaps_1.28.0.tar.gz StartedAt: 2024-10-18 00:20:44 -0400 (Fri, 18 Oct 2024) EndedAt: 2024-10-18 00:23:22 -0400 (Fri, 18 Oct 2024) EllapsedTime: 157.7 seconds RetCode: 0 Status: OK CheckDir: heatmaps.Rcheck Warnings: 0