Package: hdxmsqc Version: 1.0.1 Command: /Library/Frameworks/R.framework/Resources/bin/R CMD check --install=check:hdxmsqc.install-out.txt --library=/Library/Frameworks/R.framework/Resources/library --no-vignettes --timings hdxmsqc_1.0.1.tar.gz StartedAt: 2024-10-17 06:32:21 -0400 (Thu, 17 Oct 2024) EndedAt: 2024-10-17 06:41:21 -0400 (Thu, 17 Oct 2024) EllapsedTime: 539.9 seconds RetCode: 0 Status: OK CheckDir: hdxmsqc.Rcheck Warnings: 0