Package: hdxmsqc Version: 1.0.1 Command: /Library/Frameworks/R.framework/Resources/bin/R CMD check --install=check:hdxmsqc.install-out.txt --library=/Library/Frameworks/R.framework/Resources/library --no-vignettes --timings hdxmsqc_1.0.1.tar.gz StartedAt: 2024-10-18 00:20:37 -0400 (Fri, 18 Oct 2024) EndedAt: 2024-10-18 00:25:32 -0400 (Fri, 18 Oct 2024) EllapsedTime: 295.7 seconds RetCode: 0 Status: OK CheckDir: hdxmsqc.Rcheck Warnings: 0