Package: hdxmsqc Version: 1.0.1 Command: /Library/Frameworks/R.framework/Resources/bin/R CMD build --keep-empty-dirs --no-resave-data hdxmsqc StartedAt: 2024-10-17 02:13:59 -0400 (Thu, 17 Oct 2024) EndedAt: 2024-10-17 02:18:02 -0400 (Thu, 17 Oct 2024) EllapsedTime: 243.0 seconds RetCode: 0 Status: OK PackageFile: hdxmsqc_1.0.1.tar.gz PackageFileSize: 4.59 MiB