Package: hdxmsqc Version: 1.0.1 Command: rm -rf hdxmsqc.buildbin-libdir && mkdir hdxmsqc.buildbin-libdir && /Users/biocbuild/BBS/utils/build-universal.sh hdxmsqc_1.0.1.tar.gz /Library/Frameworks/R.framework/Resources/bin/R hdxmsqc.buildbin-libdir StartedAt: 2024-10-18 18:53:31 -0400 (Fri, 18 Oct 2024) EndedAt: 2024-10-18 18:54:16 -0400 (Fri, 18 Oct 2024) EllapsedTime: 44.8 seconds RetCode: 0 Status: OK PackageFile: hdxmsqc_1.0.1.tgz PackageFileSize: 4.694 MiB