Package: hapFabia Version: 1.46.0 Command: E:\biocbuild\bbs-3.19-bioc\R\bin\R.exe CMD INSTALL hapFabia StartedAt: 2024-10-16 16:02:14 -0400 (Wed, 16 Oct 2024) EndedAt: 2024-10-16 16:03:00 -0400 (Wed, 16 Oct 2024) EllapsedTime: 45.8 seconds RetCode: 0 Status: OK