Package: hapFabia Version: 1.46.0 Command: rm -rf hapFabia.buildbin-libdir && mkdir hapFabia.buildbin-libdir && /Users/biocbuild/BBS/utils/build-universal.sh hapFabia_1.46.0.tar.gz /Library/Frameworks/R.framework/Resources/bin/R hapFabia.buildbin-libdir StartedAt: 2024-10-18 18:52:59 -0400 (Fri, 18 Oct 2024) EndedAt: 2024-10-18 18:53:16 -0400 (Fri, 18 Oct 2024) EllapsedTime: 16.9 seconds RetCode: 0 Status: OK PackageFile: hapFabia_1.46.0.tgz PackageFileSize: 1.773 MiB