Package: h5vc Version: 2.38.0 Command: E:\biocbuild\bbs-3.19-bioc\R\bin\R.exe CMD INSTALL h5vc StartedAt: 2024-10-16 16:35:06 -0400 (Wed, 16 Oct 2024) EndedAt: 2024-10-16 16:35:48 -0400 (Wed, 16 Oct 2024) EllapsedTime: 41.7 seconds RetCode: 0 Status: OK