Package: h5vc Version: 2.38.0 Command: rm -rf h5vc.buildbin-libdir && mkdir h5vc.buildbin-libdir && E:\biocbuild\bbs-3.19-bioc\R\bin\R.exe CMD INSTALL --build --library=h5vc.buildbin-libdir h5vc_2.38.0.tar.gz StartedAt: 2024-10-17 07:56:16 -0400 (Thu, 17 Oct 2024) EndedAt: 2024-10-17 07:57:51 -0400 (Thu, 17 Oct 2024) EllapsedTime: 95.3 seconds RetCode: 0 Status: OK PackageFile: h5vc_2.38.0.zip PackageFileSize: 5.568 MiB