Package: h5vc Version: 2.38.0 Command: /home/biocbuild/bbs-3.19-bioc/R/bin/R CMD check --install=check:h5vc.install-out.txt --library=/home/biocbuild/bbs-3.19-bioc/R/site-library --timings h5vc_2.38.0.tar.gz StartedAt: 2024-10-17 01:16:03 -0400 (Thu, 17 Oct 2024) EndedAt: 2024-10-17 01:22:55 -0400 (Thu, 17 Oct 2024) EllapsedTime: 411.8 seconds RetCode: 0 Status: WARNINGS CheckDir: h5vc.Rcheck Warnings: 1