Package: h5vc Version: 2.38.0 Command: /Library/Frameworks/R.framework/Resources/bin/R CMD check --install=check:h5vc.install-out.txt --library=/Library/Frameworks/R.framework/Resources/library --no-vignettes --timings h5vc_2.38.0.tar.gz StartedAt: 2024-10-17 06:30:56 -0400 (Thu, 17 Oct 2024) EndedAt: 2024-10-17 06:38:04 -0400 (Thu, 17 Oct 2024) EllapsedTime: 427.9 seconds RetCode: 0 Status: WARNINGS CheckDir: h5vc.Rcheck Warnings: 1