Package: h5vc Version: 2.38.0 Command: /Library/Frameworks/R.framework/Resources/bin/R CMD INSTALL h5vc StartedAt: 2024-10-16 16:54:22 -0400 (Wed, 16 Oct 2024) EndedAt: 2024-10-16 16:54:46 -0400 (Wed, 16 Oct 2024) EllapsedTime: 24.1 seconds RetCode: 0 Status: OK