Package: h5vc Version: 2.38.0 Command: rm -rf h5vc.buildbin-libdir && mkdir h5vc.buildbin-libdir && /Users/biocbuild/BBS/utils/build-universal.sh h5vc_2.38.0.tar.gz /Library/Frameworks/R.framework/Resources/bin/R h5vc.buildbin-libdir StartedAt: 2024-10-18 18:52:49 -0400 (Fri, 18 Oct 2024) EndedAt: 2024-10-18 18:53:21 -0400 (Fri, 18 Oct 2024) EllapsedTime: 31.7 seconds RetCode: 0 Status: OK PackageFile: h5vc_2.38.0.tgz PackageFileSize: 2.06 MiB