Package: gwasurvivr Version: 1.22.0 Command: chmod a+r gwasurvivr -R && E:\biocbuild\bbs-3.19-bioc\R\bin\R.exe CMD build --keep-empty-dirs --no-resave-data gwasurvivr StartedAt: 2024-10-16 19:37:54 -0400 (Wed, 16 Oct 2024) EndedAt: 2024-10-16 19:40:39 -0400 (Wed, 16 Oct 2024) EllapsedTime: 165.5 seconds RetCode: 0 Status: OK PackageFile: gwasurvivr_1.22.0.tar.gz PackageFileSize: 343.5 KiB