Package: gwasurvivr Version: 1.22.0 Command: F:\biocbuild\bbs-3.19-bioc\R\bin\R.exe CMD INSTALL gwasurvivr StartedAt: 2024-06-26 16:40:11 -0400 (Wed, 26 Jun 2024) EndedAt: 2024-06-26 16:41:09 -0400 (Wed, 26 Jun 2024) EllapsedTime: 57.7 seconds RetCode: 0 Status: OK