Package: gwasurvivr Version: 1.22.0 Command: chmod a+r gwasurvivr -R && F:\biocbuild\bbs-3.19-bioc\R\bin\R.exe CMD build --keep-empty-dirs --no-resave-data gwasurvivr StartedAt: 2024-06-26 19:24:41 -0400 (Wed, 26 Jun 2024) EndedAt: 2024-06-26 19:27:35 -0400 (Wed, 26 Jun 2024) EllapsedTime: 174.2 seconds RetCode: 0 Status: OK PackageFile: gwasurvivr_1.22.0.tar.gz PackageFileSize: 343.5 KiB