Package: gwasurvivr Version: 1.22.0 Command: /home/biocbuild/bbs-3.19-bioc/R/bin/R CMD build --keep-empty-dirs --no-resave-data gwasurvivr StartedAt: 2024-10-16 18:53:46 -0400 (Wed, 16 Oct 2024) EndedAt: 2024-10-16 18:56:20 -0400 (Wed, 16 Oct 2024) EllapsedTime: 154.3 seconds RetCode: 0 Status: OK PackageFile: gwasurvivr_1.22.0.tar.gz PackageFileSize: 343.1 KiB