Package: gwasurvivr Version: 1.22.0 Command: /Library/Frameworks/R.framework/Resources/bin/R CMD build --keep-empty-dirs --no-resave-data gwasurvivr StartedAt: 2024-10-16 19:52:48 -0400 (Wed, 16 Oct 2024) EndedAt: 2024-10-16 19:58:49 -0400 (Wed, 16 Oct 2024) EllapsedTime: 360.9 seconds RetCode: 0 Status: OK PackageFile: gwasurvivr_1.22.0.tar.gz PackageFileSize: 342.9 KiB