Package: gwasurvivr Version: 1.22.0 Command: rm -rf gwasurvivr.buildbin-libdir && mkdir gwasurvivr.buildbin-libdir && /Users/biocbuild/BBS/utils/build-universal.sh gwasurvivr_1.22.0.tar.gz /Library/Frameworks/R.framework/Resources/bin/R gwasurvivr.buildbin-libdir StartedAt: 2024-06-10 00:21:40 -0400 (Mon, 10 Jun 2024) EndedAt: 2024-06-10 00:22:42 -0400 (Mon, 10 Jun 2024) EllapsedTime: 61.9 seconds RetCode: 0 Status: OK PackageFile: gwasurvivr_1.22.0.tgz PackageFileSize: 410.2 KiB