Package: gwasurvivr Version: 1.22.0 Command: /home/biocbuild/R/R-beta-2024-04-15_r86425/bin/R CMD build --keep-empty-dirs --no-resave-data gwasurvivr StartedAt: 2024-05-09 00:51:58 -0000 (Thu, 09 May 2024) EndedAt: 2024-05-09 00:55:10 -0000 (Thu, 09 May 2024) EllapsedTime: 191.3 seconds RetCode: 0 Status: OK PackageFile: gwasurvivr_1.22.0.tar.gz PackageFileSize: 410.4 KiB