Package: gwasurvivr Version: 1.22.0 Command: /Library/Frameworks/R.framework/Resources/bin/R CMD INSTALL gwasurvivr StartedAt: 2024-06-09 17:10:12 -0400 (Sun, 09 Jun 2024) EndedAt: 2024-06-09 17:11:18 -0400 (Sun, 09 Jun 2024) EllapsedTime: 66.0 seconds RetCode: 0 Status: OK