Package: gwasurvivr Version: 1.22.0 Maintainer: Abbas Rizvi MaintainerEmail: aarizv at gmail.com git_url: https://git.bioconductor.org/packages/gwasurvivr git_branch: RELEASE_3_19 git_last_commit: 105498f git_last_commit_date: 2024-04-30 11:07:17 -0400 (Tue, 30 Apr 2024)