Package: gwascat Version: 2.36.0 Command: E:\biocbuild\bbs-3.19-bioc\R\bin\R.exe CMD check --no-multiarch --install=check:gwascat.install-out.txt --library=E:\biocbuild\bbs-3.19-bioc\R\library --no-vignettes --timings gwascat_2.36.0.tar.gz StartedAt: 2024-10-17 02:12:16 -0400 (Thu, 17 Oct 2024) EndedAt: 2024-10-17 02:22:14 -0400 (Thu, 17 Oct 2024) EllapsedTime: 597.4 seconds RetCode: 0 Status: OK CheckDir: gwascat.Rcheck Warnings: 0