Package: gwascat Version: 2.36.0 Command: rm -rf gwascat.buildbin-libdir && mkdir gwascat.buildbin-libdir && E:\biocbuild\bbs-3.19-bioc\R\bin\R.exe CMD INSTALL --build --library=gwascat.buildbin-libdir gwascat_2.36.0.tar.gz StartedAt: 2024-10-17 07:56:03 -0400 (Thu, 17 Oct 2024) EndedAt: 2024-10-17 07:57:05 -0400 (Thu, 17 Oct 2024) EllapsedTime: 62.8 seconds RetCode: 0 Status: OK PackageFile: gwascat_2.36.0.zip PackageFileSize: 33.88 MiB