Package: gwascat Version: 2.36.0 Command: chmod a+r gwascat -R && F:\biocbuild\bbs-3.19-bioc\R\bin\R.exe CMD build --keep-empty-dirs --no-resave-data gwascat StartedAt: 2024-06-26 19:24:12 -0400 (Wed, 26 Jun 2024) EndedAt: 2024-06-26 19:27:24 -0400 (Wed, 26 Jun 2024) EllapsedTime: 192.6 seconds RetCode: 0 Status: OK PackageFile: gwascat_2.36.0.tar.gz PackageFileSize: 33.44 MiB