Package: gwascat Version: 2.36.0 Command: rm -rf gwascat.buildbin-libdir && mkdir gwascat.buildbin-libdir && F:\biocbuild\bbs-3.19-bioc\R\bin\R.exe CMD INSTALL --build --library=gwascat.buildbin-libdir gwascat_2.36.0.tar.gz StartedAt: 2024-06-27 08:20:03 -0400 (Thu, 27 Jun 2024) EndedAt: 2024-06-27 08:21:16 -0400 (Thu, 27 Jun 2024) EllapsedTime: 72.8 seconds RetCode: 0 Status: OK PackageFile: gwascat_2.36.0.zip PackageFileSize: 33.88 MiB