Package: gwascat Version: 2.36.0 Command: /home/biocbuild/bbs-3.19-bioc/R/bin/R CMD check --install=check:gwascat.install-out.txt --library=/home/biocbuild/bbs-3.19-bioc/R/site-library --timings gwascat_2.36.0.tar.gz StartedAt: 2024-10-17 01:14:44 -0400 (Thu, 17 Oct 2024) EndedAt: 2024-10-17 01:24:52 -0400 (Thu, 17 Oct 2024) EllapsedTime: 608.2 seconds RetCode: 0 Status: OK CheckDir: gwascat.Rcheck Warnings: 0