Package: gwascat Version: 2.36.0 Command: /home/biocbuild/bbs-3.19-bioc/R/bin/R CMD build --keep-empty-dirs --no-resave-data gwascat StartedAt: 2024-10-16 18:53:21 -0400 (Wed, 16 Oct 2024) EndedAt: 2024-10-16 18:55:45 -0400 (Wed, 16 Oct 2024) EllapsedTime: 144.3 seconds RetCode: 0 Status: OK PackageFile: gwascat_2.36.0.tar.gz PackageFileSize: 33.73 MiB