Package: gwascat Version: 2.36.0 Command: /Library/Frameworks/R.framework/Resources/bin/R CMD check --install=check:gwascat.install-out.txt --library=/Library/Frameworks/R.framework/Resources/library --no-vignettes --timings gwascat_2.36.0.tar.gz StartedAt: 2024-10-17 06:29:26 -0400 (Thu, 17 Oct 2024) EndedAt: 2024-10-17 06:46:24 -0400 (Thu, 17 Oct 2024) EllapsedTime: 1017.4 seconds RetCode: 0 Status: OK CheckDir: gwascat.Rcheck Warnings: 0