Package: gwascat Version: 2.36.0 Command: /home/biocbuild/R/R-beta-2024-04-15_r86425/bin/R CMD build --keep-empty-dirs --no-resave-data gwascat StartedAt: 2024-05-09 00:51:25 -0000 (Thu, 09 May 2024) EndedAt: 2024-05-09 00:54:35 -0000 (Thu, 09 May 2024) EllapsedTime: 189.3 seconds RetCode: 0 Status: OK PackageFile: gwascat_2.36.0.tar.gz PackageFileSize: 33.67 MiB