Package: gwascat Version: 2.36.0 Command: /Library/Frameworks/R.framework/Resources/bin/R CMD INSTALL gwascat StartedAt: 2024-06-09 17:06:54 -0400 (Sun, 09 Jun 2024) EndedAt: 2024-06-09 17:08:18 -0400 (Sun, 09 Jun 2024) EllapsedTime: 84.7 seconds RetCode: 0 Status: OK