Package: gwascat Version: 2.36.0 Command: /Library/Frameworks/R.framework/Resources/bin/R CMD check --install=check:gwascat.install-out.txt --library=/Library/Frameworks/R.framework/Resources/library --no-vignettes --timings gwascat_2.36.0.tar.gz StartedAt: 2024-06-10 18:07:15 -0400 (Mon, 10 Jun 2024) EndedAt: 2024-06-10 18:22:28 -0400 (Mon, 10 Jun 2024) EllapsedTime: 912.9 seconds RetCode: 0 Status: OK CheckDir: gwascat.Rcheck Warnings: 0