Package: gwascat Version: 2.36.0 Command: /Library/Frameworks/R.framework/Resources/bin/R CMD INSTALL gwascat StartedAt: 2024-10-16 18:11:27 -0400 (Wed, 16 Oct 2024) EndedAt: 2024-10-16 18:12:30 -0400 (Wed, 16 Oct 2024) EllapsedTime: 63.3 seconds RetCode: 0 Status: OK