Package: gtrellis Version: 1.36.0 Command: chmod a+r gtrellis -R && E:\biocbuild\bbs-3.19-bioc\R\bin\R.exe CMD build --keep-empty-dirs --no-resave-data gtrellis StartedAt: 2024-10-16 19:36:55 -0400 (Wed, 16 Oct 2024) EndedAt: 2024-10-16 19:40:06 -0400 (Wed, 16 Oct 2024) EllapsedTime: 190.7 seconds RetCode: 0 Status: OK PackageFile: gtrellis_1.36.0.tar.gz PackageFileSize: 1.41 MiB