Package: gtrellis Version: 1.36.0 Command: /Library/Frameworks/R.framework/Resources/bin/R CMD check --install=check:gtrellis.install-out.txt --library=/Library/Frameworks/R.framework/Resources/library --no-vignettes --timings gtrellis_1.36.0.tar.gz StartedAt: 2024-06-09 20:47:29 -0400 (Sun, 09 Jun 2024) EndedAt: 2024-06-09 20:49:43 -0400 (Sun, 09 Jun 2024) EllapsedTime: 133.9 seconds RetCode: 0 Status: OK CheckDir: gtrellis.Rcheck Warnings: 0