Package: gtrellis Version: 1.36.0 Command: /home/biocbuild/R/R-beta-2024-04-15_r86425/bin/R CMD check --install=check:gtrellis.install-out.txt --library=/home/biocbuild/R/R-beta-2024-04-15_r86425/site-library --no-vignettes --timings gtrellis_1.36.0.tar.gz StartedAt: 2024-05-09 08:10:44 -0000 (Thu, 09 May 2024) EndedAt: 2024-05-09 08:12:50 -0000 (Thu, 09 May 2024) EllapsedTime: 126.2 seconds RetCode: 0 Status: OK CheckDir: gtrellis.Rcheck Warnings: 0