Package: gtrellis Version: 1.36.0 Command: /Library/Frameworks/R.framework/Resources/bin/R CMD check --install=check:gtrellis.install-out.txt --library=/Library/Frameworks/R.framework/Resources/library --no-vignettes --timings gtrellis_1.36.0.tar.gz StartedAt: 2024-06-10 18:03:37 -0400 (Mon, 10 Jun 2024) EndedAt: 2024-06-10 18:07:39 -0400 (Mon, 10 Jun 2024) EllapsedTime: 242.0 seconds RetCode: 0 Status: OK CheckDir: gtrellis.Rcheck Warnings: 0