Package: gtrellis Version: 1.36.0 Maintainer: Zuguang Gu MaintainerEmail: z.gu at dkfz.de git_url: https://git.bioconductor.org/packages/gtrellis git_branch: RELEASE_3_19 git_last_commit: 2e1bf5f git_last_commit_date: 2024-04-30 10:42:35 -0400 (Tue, 30 Apr 2024)