Package: gsean Version: 1.24.0 Command: /Library/Frameworks/R.framework/Resources/bin/R CMD INSTALL gsean StartedAt: 2024-10-16 16:25:08 -0400 (Wed, 16 Oct 2024) EndedAt: 2024-10-16 16:26:00 -0400 (Wed, 16 Oct 2024) EllapsedTime: 52.5 seconds RetCode: 0 Status: OK