Package: gsean Version: 1.24.0 Command: rm -rf gsean.buildbin-libdir && mkdir gsean.buildbin-libdir && /Users/biocbuild/BBS/utils/build-universal.sh gsean_1.24.0.tar.gz /Library/Frameworks/R.framework/Resources/bin/R gsean.buildbin-libdir StartedAt: 2024-10-17 16:19:26 -0400 (Thu, 17 Oct 2024) EndedAt: 2024-10-17 16:20:27 -0400 (Thu, 17 Oct 2024) EllapsedTime: 60.6 seconds RetCode: 0 Status: OK PackageFile: gsean_1.24.0.tgz PackageFileSize: 1.559 MiB